View In:
ArcGIS JavaScript
ArcGIS Online Map Viewer
ArcGIS Earth
ArcMap
View Footprint In:
ArcGIS Online Map Viewer
Service Description: City_of_Fayetteville_Imagery
Name: City_of_Fayetteville_Imagery
Description:
Single Fused Map Cache: false
Extent:
XMin: 1972500
YMin: 443750
XMax: 2068750
YMax: 531250
Spatial Reference: PROJCS["NAD_1983_2011_North_Carolina_ftUS",GEOGCS["GCS_NAD_1983_2011",DATUM["D_NAD83_NATIONAL_SPATIAL_REFERENCE_SYSTEM_2011",SPHEROID["GRS_1980",6378137.0,298.257222101]],PRIMEM["Greenwich",0.0],UNIT["Degree",0.0174532925199433]],PROJECTION["Lambert_Conformal_Conic"],PARAMETER["false_easting",2000000.002616667],PARAMETER["false_northing",0.0],PARAMETER["central_meridian",-79.0],PARAMETER["standard_parallel_1",34.33333333333334],PARAMETER["standard_parallel_2",36.16666666666666],PARAMETER["latitude_of_origin",33.75],UNIT["Foot_US",0.3048006096012192]]
Initial Extent:
XMin: 1972500
YMin: 443750
XMax: 2068750
YMax: 531250
Spatial Reference: PROJCS["NAD_1983_2011_North_Carolina_ftUS",GEOGCS["GCS_NAD_1983_2011",DATUM["D_NAD83_NATIONAL_SPATIAL_REFERENCE_SYSTEM_2011",SPHEROID["GRS_1980",6378137.0,298.257222101]],PRIMEM["Greenwich",0.0],UNIT["Degree",0.0174532925199433]],PROJECTION["Lambert_Conformal_Conic"],PARAMETER["false_easting",2000000.002616667],PARAMETER["false_northing",0.0],PARAMETER["central_meridian",-79.0],PARAMETER["standard_parallel_1",34.33333333333334],PARAMETER["standard_parallel_2",36.16666666666666],PARAMETER["latitude_of_origin",33.75],UNIT["Foot_US",0.3048006096012192]]
Full Extent:
XMin: 1972500
YMin: 443750
XMax: 2068750
YMax: 531250
Spatial Reference: PROJCS["NAD_1983_2011_North_Carolina_ftUS",GEOGCS["GCS_NAD_1983_2011",DATUM["D_NAD83_NATIONAL_SPATIAL_REFERENCE_SYSTEM_2011",SPHEROID["GRS_1980",6378137.0,298.257222101]],PRIMEM["Greenwich",0.0],UNIT["Degree",0.0174532925199433]],PROJECTION["Lambert_Conformal_Conic"],PARAMETER["false_easting",2000000.002616667],PARAMETER["false_northing",0.0],PARAMETER["central_meridian",-79.0],PARAMETER["standard_parallel_1",34.33333333333334],PARAMETER["standard_parallel_2",36.16666666666666],PARAMETER["latitude_of_origin",33.75],UNIT["Foot_US",0.3048006096012192]]
Pixel Size X: 0.25
Pixel Size Y: 0.25
Band Count: 4
Pixel Type: U8
RasterFunction Infos: {"rasterFunctionInfos": [{
"name": "None",
"description": "",
"help": ""
}]}
Mensuration Capabilities: Basic
Has Histograms: true
Has Colormap: false
Has Multi Dimensions : false
Rendering Rule:
Min Scale: 0
Max Scale: 0
Copyright Text:
Service Data Type: esriImageServiceDataTypeGeneric
Min Values: 0, 0, 0, 0
Max Values: 255, 255, 255, 255
Mean Values: 127.50358680057, 122.31391678623, 105.45423242468, 97.518802572984
Standard Deviation Values: 49.386448472534, 49.907238414966, 54.953247247919, 122.27141784458
Object ID Field:
Fields:
None
Default Mosaic Method: Center
Allowed Mosaic Methods:
SortField:
SortValue: null
Mosaic Operator: First
Default Compression Quality: 75
Default Resampling Method: Bilinear
Max Record Count: null
Max Image Height: 4100
Max Image Width: 15000
Max Download Image Count: null
Max Mosaic Image Count: null
Allow Raster Function: true
Allow Compute TiePoints: false
Supports Statistics: false
Supports Advanced Queries: false
Use StandardizedQueries: true
Raster Type Infos:
Name: Raster Dataset
Description: Supports all ArcGIS Raster Datasets
Help:
Has Raster Attribute Table: false
Edit Fields Info: null
Ownership Based AccessControl For Rasters: null
Child Resources:
Info
Histograms
Key Properties
Legend
MultiDimensionalInfo
rasterFunctionInfos
Supported Operations:
Export Image
Identify
Measure
Compute Histograms
Compute Statistics Histograms
Get Samples
Compute Class Statistics
Query Boundary
Compute Pixel Location