{
 "currentVersion": 10.71,
 "serviceDescription": "City_of_Fayetteville_Imagery",
 "name": "City_of_Fayetteville_Imagery",
 "description": "",
 "extent": {
  "xmin": 1972500,
  "ymin": 443750,
  "xmax": 2068750,
  "ymax": 531250,
  "spatialReference": {
   "wkt": "PROJCS[\"NAD_1983_2011_North_Carolina_ftUS\",GEOGCS[\"GCS_NAD_1983_2011\",DATUM[\"D_NAD83_NATIONAL_SPATIAL_REFERENCE_SYSTEM_2011\",SPHEROID[\"GRS_1980\",6378137.0,298.257222101]],PRIMEM[\"Greenwich\",0.0],UNIT[\"Degree\",0.0174532925199433]],PROJECTION[\"Lambert_Conformal_Conic\"],PARAMETER[\"false_easting\",2000000.002616667],PARAMETER[\"false_northing\",0.0],PARAMETER[\"central_meridian\",-79.0],PARAMETER[\"standard_parallel_1\",34.33333333333334],PARAMETER[\"standard_parallel_2\",36.16666666666666],PARAMETER[\"latitude_of_origin\",33.75],UNIT[\"Foot_US\",0.3048006096012192]]"
  }
 },
 "initialExtent": {
  "xmin": 1972500,
  "ymin": 443750,
  "xmax": 2068750,
  "ymax": 531250,
  "spatialReference": {
   "wkt": "PROJCS[\"NAD_1983_2011_North_Carolina_ftUS\",GEOGCS[\"GCS_NAD_1983_2011\",DATUM[\"D_NAD83_NATIONAL_SPATIAL_REFERENCE_SYSTEM_2011\",SPHEROID[\"GRS_1980\",6378137.0,298.257222101]],PRIMEM[\"Greenwich\",0.0],UNIT[\"Degree\",0.0174532925199433]],PROJECTION[\"Lambert_Conformal_Conic\"],PARAMETER[\"false_easting\",2000000.002616667],PARAMETER[\"false_northing\",0.0],PARAMETER[\"central_meridian\",-79.0],PARAMETER[\"standard_parallel_1\",34.33333333333334],PARAMETER[\"standard_parallel_2\",36.16666666666666],PARAMETER[\"latitude_of_origin\",33.75],UNIT[\"Foot_US\",0.3048006096012192]]"
  }
 },
 "fullExtent": {
  "xmin": 1972500,
  "ymin": 443750,
  "xmax": 2068750,
  "ymax": 531250,
  "spatialReference": {
   "wkt": "PROJCS[\"NAD_1983_2011_North_Carolina_ftUS\",GEOGCS[\"GCS_NAD_1983_2011\",DATUM[\"D_NAD83_NATIONAL_SPATIAL_REFERENCE_SYSTEM_2011\",SPHEROID[\"GRS_1980\",6378137.0,298.257222101]],PRIMEM[\"Greenwich\",0.0],UNIT[\"Degree\",0.0174532925199433]],PROJECTION[\"Lambert_Conformal_Conic\"],PARAMETER[\"false_easting\",2000000.002616667],PARAMETER[\"false_northing\",0.0],PARAMETER[\"central_meridian\",-79.0],PARAMETER[\"standard_parallel_1\",34.33333333333334],PARAMETER[\"standard_parallel_2\",36.16666666666666],PARAMETER[\"latitude_of_origin\",33.75],UNIT[\"Foot_US\",0.3048006096012192]]"
  }
 },
 "pixelSizeX": 0.25,
 "pixelSizeY": 0.25,
 "bandCount": 4,
 "pixelType": "U8",
 "minPixelSize": 0,
 "maxPixelSize": 0,
 "copyrightText": "",
 "serviceDataType": "esriImageServiceDataTypeGeneric",
 "minValues": [
  0,
  0,
  0,
  0
 ],
 "maxValues": [
  255,
  255,
  255,
  255
 ],
 "meanValues": [
  127.50358680057,
  122.31391678623,
  105.45423242468,
  97.518802572984
 ],
 "stdvValues": [
  49.386448472534,
  49.907238414966,
  54.953247247919,
  122.27141784458
 ],
 "objectIdField": "",
 "fields": [],
 "capabilities": "Image,Metadata,Mensuration",
 "defaultMosaicMethod": "Center",
 "allowedMosaicMethods": "",
 "sortField": "",
 "sortValue": null,
 "mosaicOperator": "First",
 "defaultCompressionQuality": 75,
 "defaultResamplingMethod": "Bilinear",
 "maxImageHeight": 4100,
 "maxImageWidth": 15000,
 "allowRasterFunction": true,
 "rasterFunctionInfos": [
  {
   "name": "None",
   "description": "",
   "help": ""
  }
 ],
 "rasterTypeInfos": [
  {
   "name": "Raster Dataset",
   "description": "Supports all ArcGIS Raster Datasets",
   "help": ""
  }
 ],
 "mensurationCapabilities": "Basic",
 "hasHistograms": true,
 "hasColormap": false,
 "hasRasterAttributeTable": false,
 "minScale": 0,
 "maxScale": 0,
 "exportTilesAllowed": false,
 "hasMultidimensions": false,
 "supportsStatistics": false,
 "supportsAdvancedQueries": false,
 "editFieldsInfo": null,
 "ownershipBasedAccessControlForRasters": null,
 "allowComputeTiePoints": false,
 "useStandardizedQueries": true,
 "advancedQueryCapabilities": {
  "useStandardizedQueries": true,
  "supportsStatistics": false,
  "supportsOrderBy": false,
  "supportsDistinct": false,
  "supportsPagination": false
 },
 "spatialReference": {
  "wkt": "PROJCS[\"NAD_1983_2011_North_Carolina_ftUS\",GEOGCS[\"GCS_NAD_1983_2011\",DATUM[\"D_NAD83_NATIONAL_SPATIAL_REFERENCE_SYSTEM_2011\",SPHEROID[\"GRS_1980\",6378137.0,298.257222101]],PRIMEM[\"Greenwich\",0.0],UNIT[\"Degree\",0.0174532925199433]],PROJECTION[\"Lambert_Conformal_Conic\"],PARAMETER[\"false_easting\",2000000.002616667],PARAMETER[\"false_northing\",0.0],PARAMETER[\"central_meridian\",-79.0],PARAMETER[\"standard_parallel_1\",34.33333333333334],PARAMETER[\"standard_parallel_2\",36.16666666666666],PARAMETER[\"latitude_of_origin\",33.75],UNIT[\"Foot_US\",0.3048006096012192]]"
 }
}
